BEGIN:VCALENDAR
VERSION:2.0
PRODID:-//ChamberMaster//Event Calendar 2.0//EN
METHOD:PUBLISH
X-PUBLISHED-TTL:P3D
REFRESH-INTERVAL:P3D
CALSCALE:GREGORIAN
BEGIN:VEVENT
DTSTART:20260302T200000Z
DTEND:20260302T213000Z
X-MICROSOFT-CDO-ALLDAYEVENT:FALSE
SUMMARY:What the Post Budget Means for Business: Post-Budget Conversation with Minister Nate Horner
DESCRIPTION:The Lethbridge Chamber of Commerce is pleased to welcome the Honourable Nate Horner\, President of the Treasury Board and Minister of Finance\, for a post-budget conversation with Chamber members and invited stakeholders.\n\n\n\nThis members-only engagement will provide the local business community with the opportunity to hear key highlights from Alberta's provincial budget and gain insight into the government's fiscal priorities and economic outlook.\n\n\n\nMinister Horner will deliver brief keynote remarks followed by a moderated fireside-style question and answer session focused on the impacts of budget measures on Southern Alberta businesses\, workforce development\, and regional economic growth.\n\n\n\nAttendees will have the opportunity to submit questions in advance during registration to support a focused and productive discussion.\n\n\n\nDate: Monday\, March 2\, 2026\n\nTime: 1:00 PM   2:30 PM\n\nLocation: Aspen Ballroom | Sandman Signature Lethbridge Lodge | 320 Scenic Dr S. Lethbridge AB\n\n\n\nRegistration opens at 12:30 PM. Light refreshments will be available.\n\n\n\nAdvance registration is required. Seating is limited.\n\n\n\nPlease note: This is a closed Chamber member engagement session. Media will not be permitted to attend\, for media inquiries\, please contact Marisa Breeze\, marisa.breeze@gov.ab.ca
X-ALT-DESC;FMTTYPE=text/html:<div>\n<h2>&nbsp\;</h2>\n\n<div>The Lethbridge Chamber of Commerce is pleased to welcome the Honourable Nate Horner\, President of the Treasury Board and Minister of Finance\, for a post-budget conversation with Chamber members and invited stakeholders.<br />\n<br />\nThis members-only engagement will provide the local business community with the opportunity to hear key highlights from Alberta&rsquo\;s provincial budget and gain insight into the government&rsquo\;s fiscal priorities and economic outlook.<br />\n<br />\nMinister Horner will deliver brief keynote remarks followed by a moderated fireside-style question and answer session focused on the impacts of budget measures on Southern Alberta businesses\, workforce development\, and regional economic growth.<br />\n<br />\nAttendees will have the opportunity to submit questions in advance during registration to support a focused and productive discussion.<br />\n<br />\nDate:&nbsp\;Monday\, March 2\, 2026<br />\nTime:&nbsp\;1:00 PM &ndash\; 2:30 PM<br />\nLocation:&nbsp\;Aspen Ballroom | Sandman Signature Lethbridge Lodge | 320 Scenic Dr S. Lethbridge AB<br />\n<br />\nRegistration opens at 12:30 PM. Light refreshments will be available.<br />\n<br />\nAdvance registration is required. Seating is limited.<br />\n<br />\nPlease note:&nbsp\;This is a closed Chamber member engagement session. Media will not be permitted to attend\, for media inquiries\, please contact Marisa Breeze\,&nbsp\;marisa.breeze@gov.ab.ca</div>\n\n<div>&nbsp\;</div>\n</div>\n\n<div>&nbsp\;</div>\n
LOCATION:Aspen Ballroom Sandman Signature Lethbridge Lodge 320 Scenic Drive S. Lethbridge
UID:e.1547.13032
SEQUENCE:3
DTSTAMP:20260421T084950Z
URL:https://www.lethbridgechamber.com/events/details/what-the-post-budget-means-for-business-post-budget-conversation-with-minister-nate-horner-13032
END:VEVENT

END:VCALENDAR
