BEGIN:VCALENDAR
VERSION:2.0
PRODID:-//ChamberMaster//Event Calendar 2.0//EN
METHOD:PUBLISH
X-PUBLISHED-TTL:P3D
REFRESH-INTERVAL:P3D
CALSCALE:GREGORIAN
BEGIN:VEVENT
DTSTART:20191101T173000Z
DTEND:20191101T193000Z
X-MICROSOFT-CDO-ALLDAYEVENT:FALSE
SUMMARY:Lunch with the Minister: Travis Toews\, Minister of Finance
DESCRIPTION:Join the Lethbridge Chamber of Commerce as we host Minister of Finance\, Travis Toews on Friday\, November 1.\n\n\n\nMinister Toews will offer a presentation and discussion surrounding the provincial budget. This presentation will feature a question and answer period.
X-ALT-DESC;FMTTYPE=text/html:Join the Lethbridge Chamber of Commerce as we host Minister of Finance\, Travis Toews on Friday\, November 1.<br />\n<br />\nMinister Toews will offer a presentation and discussion surrounding the provincial budget. This presentation will feature a question and answer period.
LOCATION:Sandman Signature Lethbridge Lodge Anton's Ballroom
UID:e.1547.8559
SEQUENCE:3
DTSTAMP:20260424T222015Z
URL:https://www.lethbridgechamber.com/events/details/lunch-with-the-minister-travis-toews-minister-of-finance-8559
END:VEVENT

END:VCALENDAR
