BEGIN:VCALENDAR
VERSION:2.0
PRODID:-//ChamberMaster//Event Calendar 2.0//EN
METHOD:PUBLISH
X-PUBLISHED-TTL:P3D
REFRESH-INTERVAL:P3D
CALSCALE:GREGORIAN
BEGIN:VEVENT
DTSTART:20250913T170000Z
DTEND:20250913T230000Z
X-MICROSOFT-CDO-ALLDAYEVENT:FALSE
SUMMARY:Coulee Fest
DESCRIPTION:Coulee Fest is no ordinary event\; it's the best little fair in southern Alberta! Be ready to experience the ultimate celebration of community spirit\, music and excitement.\n\nJoin us Saturday\, Sept. 13 at Lethbridge Polytechnic for Coulee Fest 2025   a feel-good festival bursting with energy\, connection and southern Alberta spirit!\n\n\n	Be prepared for a culinary adventure like no other. From spicy to sweet\, global eats to local treats   we've got something to tempt every tastebud.\n	Be captivated by the talent on display in the vendor market brought to you by the folks at Hey Dough Cookie Co. It's a handmade haven you'll want to explore again and again.\n	Be excited to soak up the festival vibes in the beer gardens! Grab a seat\, sip on refreshing craft brews and soak in the laid-back festival vibes with friends old and new.\n	Be thrilled by the monster truck rides with Frankish Entertainment\, revved up and ready to roll! Hear the roar\, feel the power and let the southern Alberta wind whip through your hair. It's a wild adventure you'll never forget!\n\n\nFrom petting zoos to interactive activities\, Coulee Fest offers non-stop excitement for all ages. Bring your family\, friends and furry companions for a day of laughter\, joy and unforgettable memories!\n\nSo circle the date\, rally your crew and get ready for the fun. Coulee Fest 2025 is just around the corner   and it's going to be epic.
X-ALT-DESC;FMTTYPE=text/html:<p>Coulee Fest is no ordinary event\; it&#39\;s the best little fair in southern Alberta!&nbsp\;Be ready to experience the ultimate celebration of community spirit\, music and excitement.</p>\n\n<p>Join us&nbsp\;<strong>Saturday\, Sept. 13</strong>&nbsp\;at Lethbridge Polytechnic&nbsp\;for Coulee Fest 2025&nbsp\;&mdash\; a feel-good festival bursting with energy\, connection and southern Alberta spirit!</p>\n\n<ul style="list-style-type:none">\n	<li><strong>Be prepared</strong>&nbsp\;for a culinary adventure like no other. From spicy to sweet\, global eats to local treats &mdash\; we&rsquo\;ve got something to tempt every tastebud.</li>\n	<li><strong>Be captivated</strong>&nbsp\;by the talent on display in the vendor market brought to you by the folks at&nbsp\;<a href="https://heydough.ca/" style="box-sizing: border-box\; background-color: transparent\; color: rgb(49\, 127\, 187)\; text-decoration-line: none\; transition: color 300ms ease-in-out\;">Hey Dough Cookie Co</a>. It&rsquo\;s a handmade haven you&rsquo\;ll want to explore again and again.</li>\n	<li><strong>Be excited</strong>&nbsp\;to&nbsp\;soak up the festival vibes in the&nbsp\;beer gardens! Grab a seat\, sip on refreshing craft brews and soak in the laid-back festival vibes with friends old and new.</li>\n	<li><strong>Be thrilled&nbsp\;</strong>by the monster truck rides with Frankish Entertainment\, revved up and ready to roll! Hear the roar\, feel the power and let the southern Alberta wind whip through your hair. It&rsquo\;s a wild adventure you&rsquo\;ll never forget!</li>\n</ul>\n\n<p>From petting zoos to interactive activities\, Coulee Fest offers non-stop excitement for all ages. Bring your family\, friends and furry companions for a day of laughter\, joy and unforgettable memories!</p>\n\n<p>So circle the date\, rally your crew and get ready for the&nbsp\;fun. Coulee Fest 2025 is just around the corner &mdash\; and it&rsquo\;s going to be epic.</p>\n
LOCATION:Lethbridge Polytechnic 3000 College Dr. S\, Lethbridge\, AB\, T1K 1L6
UID:e.1547.12933
SEQUENCE:3
DTSTAMP:20260421T085415Z
URL:https://www.lethbridgechamber.com/events/details/coulee-fest-12933
END:VEVENT

END:VCALENDAR
