BEGIN:VCALENDAR
VERSION:2.0
PRODID:-//ChamberMaster//Event Calendar 2.0//EN
METHOD:PUBLISH
X-PUBLISHED-TTL:P3D
REFRESH-INTERVAL:P3D
CALSCALE:GREGORIAN
BEGIN:VEVENT
DTSTART:20260618T174500Z
DTEND:20260619T020000Z
X-MICROSOFT-CDO-ALLDAYEVENT:FALSE
SUMMARY:2026 Chamber Golf Tournament
DESCRIPTION:The Lethbridge Chamber Golf Tournament is a golf scramble format. \n\n \n\n\n\n\nFore-fun tournament (scramble format) for golfers of all skill levels. The Chamber Golf Scramble encourages teamwork\, camaraderie\, and strategy as players work together to achieve the best score for their team. This is a fun event where teams of golfers come together to play and socialize with the opportunity to engage with different organizations in our community.  In a best ball format\, each player hits their own ball\, but the team chooses the best shot from each player to play from for the rest of the hole. \n\n\n\nYou may enter as a single or a team\n\n\n\nJoin us for a day of friendly competition and enjoy a round of golf in a relaxed and enjoyable atmosphere!
X-ALT-DESC;FMTTYPE=text/html:<div><strong><span style="color:#006400\;"><em>The Lethbridge Chamber Golf Tournament is a golf scramble format.&nbsp\;</em></span></strong><br />\n&nbsp\;</div>\n\n<div class="elementor-element elementor-element-e80ea5c elementor-widget elementor-widget-text-editor" data-element_type="widget" data-id="e80ea5c" data-widget_type="text-editor.default" font-size:="" noto="" style="box-sizing: border-box\; --flex-direction: initial\; --flex-wrap: initial\; --justify-content: initial\; --align-items: initial\; --align-content: initial\; --gap: initial\; --flex-basis: initial\; --flex-grow: initial\; --flex-shrink: initial\; --order: initial\; --align-self: initial\; flex-basis: var(--flex-basis)\; flex-grow: var(--flex-grow)\; flex-shrink: var(--flex-shrink)\; order: var(--order)\; align-self: var(--align-self)\; flex-direction: var(--flex-direction)\; flex-wrap: var(--flex-wrap)\; justify-content: var(--justify-content)\; align-items: var(--align-items)\; align-content: var(--align-content)\; gap: var(--gap)\; position: relative\; --swiper-theme-color: #000\; --swiper-navigation-size: 44px\; --swiper-pagination-bullet-size: 6px\; --swiper-pagination-bullet-horizontal-gap: 6px\; --widgets-spacing: 20px\; width: 851px\; margin-bottom: 20px\; color: rgb(34\, 34\, 34)\; font-family: ">\n<div class="elementor-widget-container" style="box-sizing: border-box\; transition: background .3s\,border .3s\,border-radius .3s\,box-shadow .3s\,transform var(--e-transform-transition-duration\,.4s)\;">\n<div class="paragraph" style="box-sizing: border-box\;">\n<p style="box-sizing: border-box\; border: 0px\; font-style: inherit\; font-weight: inherit\; margin: 0px 0px 1.6em\; outline: 0px\; padding: 0px\; vertical-align: baseline\;"><span style="color: rgb(34\, 34\, 34)\; text-align: center\;">Fore-fun tournament (scramble format)&nbsp\;for golfers of all skill levels. The Chamber Golf Scramble&nbsp\;encourages teamwork\, camaraderie\, and strategy as players work together to achieve the best score for their team.&nbsp\;</span>This&nbsp\;is a fun event where teams of golfers come together to play and socialize with the opportunity to engage with different organizations in our community.&nbsp\;&nbsp\;In a best ball format\, each player hits their own ball\, but the team chooses the best shot from each player to play from for the rest of the hole.&nbsp\;<br />\n<br />\n<span style="text-align: center\; line-height: 20.8px\;">You may enter as a&nbsp\;</span><strong style="text-align: center\; line-height: 20.8px\;">single&nbsp\;</strong><span style="text-align: center\; line-height: 20.8px\;">or a&nbsp\;</span><strong style="text-align: center\; line-height: 20.8px\;">team</strong><br />\n<br />\nJoin us for a day of friendly competition and enjoy a round of golf in a relaxed and enjoyable atmosphere!</p>\n</div>\n</div>\n</div>\n
LOCATION:Henderson Lake Golf Club 2727 South Parkside Dr\, Lethbridge\, AB THANK YOU TO OUR MEDIA PARTNER- VISTA RADIO
UID:e.1547.13038
SEQUENCE:3
DTSTAMP:20260419T140451Z
URL:https://www.lethbridgechamber.com/events/details/2026-chamber-golf-tournament-13038
END:VEVENT

END:VCALENDAR
