BEGIN:VCALENDAR
VERSION:2.0
PRODID:-//ChamberMaster//Event Calendar 2.0//EN
METHOD:PUBLISH
X-PUBLISHED-TTL:P3D
REFRESH-INTERVAL:P3D
CALSCALE:GREGORIAN
BEGIN:VEVENT
DTSTART:20260624T233000Z
DTEND:20260625T030000Z
X-MICROSOFT-CDO-ALLDAYEVENT:FALSE
SUMMARY:2026 Chairs Reception Dinner
DESCRIPTION:Please join us for a recognition evening and dinner for our many volunteers and members who contribute to the success of the Lethbridge Chamber of Commerce and the "Voice of Business" for the community.\n\n\n\nAs a convener for leaders of influence\, a catalyst for business growth and a champion for a strong community\, we thank you for trusting the Chamber to provide resources\, engagement and advocacy for the business community.\n\n\n\nAs part of this special evening\, we will also induct Ashley Daychief into the Past Chair's Alumni\, and welcome our incoming Chair\, Charlene Scheffelmair.\nDress - Cocktail Attire\n\nDinner service provided by LA Chefs Catering.
X-ALT-DESC;FMTTYPE=text/html:Please join us for a recognition evening and dinner for our many volunteers and members who contribute to the success of the Lethbridge Chamber of Commerce and the &quot\;Voice of Business&quot\; for the community.<br />\n<br />\nAs a convener for leaders of influence\, a catalyst for business growth and a champion for a strong community\, we thank you&nbsp\;for trusting the Chamber to provide resources\, engagement and advocacy for the business community.<br />\n<br />\nAs part of this special evening\, we will also induct Ashley Daychief into the Past Chair&#39\;s Alumni\, and welcome our incoming Chair\, Charlene Scheffelmair.\n<p style="box-sizing: border-box\; margin: 0px 0px 1em\; font-family: Proxima-Nova\, Arial\, sans-serif\; font-size: 18px\; line-height: 1.6\; color: rgb(61\, 64\, 70)\; text-align: center\;"><span style="font-size:14px\;">Dress - Cocktail Attire<br />\n<em>D</em></span><em><span style="font-size:12px\;">inner service provided by LA Chefs Catering.</span></em><br />\n&nbsp\;</p>\n
LOCATION:NORLAND HISTORIC ESTATE 5801 1 Ave S | Lethbridge
UID:e.1547.13050
SEQUENCE:3
DTSTAMP:20260424T030132Z
URL:https://www.lethbridgechamber.com/events/details/2026-chairs-reception-dinner-13050
END:VEVENT

END:VCALENDAR
